BEGIN:VCALENDAR
VERSION:2.0
PRODID:-//Marathi Association Sydney Inc - ECPv5.3.2.1//NONSGML v1.0//EN
CALSCALE:GREGORIAN
METHOD:PUBLISH
X-WR-CALNAME:Marathi Association Sydney Inc
X-ORIGINAL-URL:https://masi.org.au
X-WR-CALDESC:Events for Marathi Association Sydney Inc
BEGIN:VTIMEZONE
TZID:Australia/Sydney
BEGIN:STANDARD
TZOFFSETFROM:+1100
TZOFFSETTO:+1000
TZNAME:AEST
DTSTART:20210403T160000
END:STANDARD
BEGIN:DAYLIGHT
TZOFFSETFROM:+1000
TZOFFSETTO:+1100
TZNAME:AEDT
DTSTART:20211002T160000
END:DAYLIGHT
END:VTIMEZONE
BEGIN:VEVENT
DTSTART;TZID=Australia/Sydney:20210228T110000
DTEND;TZID=Australia/Sydney:20210228T120000
DTSTAMP:20210228T222216
CREATED:20210202T070709Z
LAST-MODIFIED:20210221T023528Z
UID:6281-1614510000-1614513600@masi.org.au
SUMMARY:Akashwani - Shivajayanti
DESCRIPTION:Panel: Amit Phaltankar \nPresenter: Harsh Pawar \nTopic: Shivjayanti
URL:https://masi.org.au/event/akashwani-shivajayanti/
LOCATION:Radio
CATEGORIES:Akashwani
END:VEVENT
END:VCALENDAR